Workbook

Sheet Instruções
B12: PLANILHA DE CÁLCULO DE METRO CÚBICO DE PEÇAS DE MADEIRA
B13: Material de apoio gratuito da Eagle Tecnologia para madeireiras
B15: AS ABAS DESTA PLANILHA
B16: • Calculadora — todas as combinações de comprimento e bitola já vêm com o diâmetro médio, o m³ e o
B17: peso por peça preenchidos. Digite só a quantidade de peças na coluna amarela; os totais somam no rodapé.
B18: O cabeçalho fica fixo e há um filtro para localizar a linha que você quer.
B19: • Orçamento por m³ — proposta com preço por metro cúbico. Escolha bitola e comprimento nas listas,
B20: informe a quantidade de peças e o preço por m³.
B21: • Orçamento por Peça — proposta com preço por peça (usado em mourão, poste, escora).
B22: Ambas calculam m³, peso, valor por item e o total. Forma de pagamento (à vista / a prazo / parcelado /
B23: crediário / Pix / cartão crédito / cartão débito / cheque / boleto), desconto e frete você preenche.
B24: • Tabela de m3 — o m³ de uma peça por comprimento e bitola (fórmula do cilindro; diâmetro médio editável).
... B48: © 2026 Eagle Tecnologia — distribuição gratuita autorizada.

Sheet Calculadora
A1: CALCULADORA DE METRO CÚBICO DE PEÇAS
A2: Todas as medidas já estão preenchidas. Digite só a QUANTIDADE DE PEÇAS (coluna amarela) nas linhas que você tem. O total fica no rodapé.
A4: Comprimento (m) | B4: Bitola (cm) | C4: Diâmetro médio (cm) | D4: m³ por peça | E4: Peso por peça (kg) | F4: Quantidade de peças | G4: m³ total | H4: Peso total (kg)
A5: 1.5 | B5: 04 a 06 | C5: =INDEX('Tabela de m3'!$B$3:$U$3,MATCH($B5,'Tabela de m3'!$B$4:$U$4,0)) | D5: =INDEX('Tabela de m3'!$B$5:$U$20,MATCH($A5,'Tabela de m3'!$A$5:$A$20,0),MATCH($B5,'Tabela de m3'!$B$4:$U$4,0)) | E5: =INDEX('Tabela de Peso'!$B$4:$U$19,MATCH($A5,'Tabela de Peso'!$A$4:$A$19,0),MATCH($B5,'Tabela de Peso'!$B$3:$U$3,0)) | G5: =IF($F5="","",$D5*$F5) | H5: =IF($F5="","",$E5*$F5)
A6: 1.5 | B6: 06 a 08 | C6: =INDEX('Tabela de m3'!$B$3:$U$3,MATCH($B6,'Tabela de m3'!$B$4:$U$4,0)) | D6: =INDEX('Tabela de m3'!$B$5:$U$20,MATCH($A6,'Tabela de m3'!$A$5:$A$20,0),MATCH($B6,'Tabela de m3'!$B$4:$U$4,0)) | E6: =INDEX('Tabela de Peso'!$B$4:$U$19,MATCH($A6,'Tabela de Peso'!$A$4:$A$19,0),MATCH($B6,'Tabela de Peso'!$B$3:$U$3,0)) | G6: =IF($F6="","",$D6*$F6) | H6: =IF($F6="","",$E6*$F6)
A7: 1.5 | B7: 08 a 10 | C7: =INDEX('Tabela de m3'!$B$3:$U$3,MATCH($B7,'Tabela de m3'!$B$4:$U$4,0)) | D7: =INDEX('Tabela de m3'!$B$5:$U$20,MATCH($A7,'Tabela de m3'!$A$5:$A$20,0),MATCH($B7,'Tabela de m3'!$B$4:$U$4,0)) | E7: =INDEX('Tabela de Peso'!$B$4:$U$19,MATCH($A7,'Tabela de Peso'!$A$4:$A$19,0),MATCH($B7,'Tabela de Peso'!$B$3:$U$3,0)) | G7: =IF($F7="","",$D7*$F7) | H7: =IF($F7="","",$E7*$F7)
A8: 1.5 | B8: 10 a 12 | C8: =INDEX('Tabela de m3'!$B$3:$U$3,MATCH($B8,'Tabela de m3'!$B$4:$U$4,0)) | D8: =INDEX('Tabela de m3'!$B$5:$U$20,MATCH($A8,'Tabela de m3'!$A$5:$A$20,0),MATCH($B8,'Tabela de m3'!$B$4:$U$4,0)) | E8: =INDEX('Tabela de Peso'!$B$4:$U$19,MATCH($A8,'Tabela de Peso'!$A$4:$A$19,0),MATCH($B8,'Tabela de Peso'!$B$3:$U$3,0)) | G8: =IF($F8="","",$D8*$F8) | H8: =IF($F8="","",$E8*$F8)
A9: 1.5 | B9: 12 a 14 | C9: =INDEX('Tabela de m3'!$B$3:$U$3,MATCH($B9,'Tabela de m3'!$B$4:$U$4,0)) | D9: =INDEX('Tabela de m3'!$B$5:$U$20,MATCH($A9,'Tabela de m3'!$A$5:$A$20,0),MATCH($B9,'Tabela de m3'!$B$4:$U$4,0)) | E9: =INDEX('Tabela de Peso'!$B$4:$U$19,MATCH($A9,'Tabela de Peso'!$A$4:$A$19,0),MATCH($B9,'Tabela de Peso'!$B$3:$U$3,0)) | G9: =IF($F9="","",$D9*$F9) | H9: =IF($F9="","",$E9*$F9)
A10: 1.5 | B10: 14 a 16 | C10: =INDEX('Tabela de m3'!$B$3:$U$3,MATCH($B10,'Tabela de m3'!$B$4:$U$4,0)) | D10: =INDEX('Tabela de m3'!$B$5:$U$20,MATCH($A10,'Tabela de m3'!$A$5:$A$20,0),MATCH($B10,'Tabela de m3'!$B$4:$U$4,0)) | E10: =INDEX('Tabela de Peso'!$B$4:$U$19,MATCH($A10,'Tabela de Peso'!$A$4:$A$19,0),MATCH($B10,'Tabela de Peso'!$B$3:$U$3,0)) | G10: =IF($F10="","",$D10*$F10) | H10: =IF($F10="","",$E10*$F10)
A11: 1.5 | B11: 16 a 18 | C11: =INDEX('Tabela de m3'!$B$3:$U$3,MATCH($B11,'Tabela de m3'!$B$4:$U$4,0)) | D11: =INDEX('Tabela de m3'!$B$5:$U$20,MATCH($A11,'Tabela de m3'!$A$5:$A$20,0),MATCH($B11,'Tabela de m3'!$B$4:$U$4,0)) | E11: =INDEX('Tabela de Peso'!$B$4:$U$19,MATCH($A11,'Tabela de Peso'!$A$4:$A$19,0),MATCH($B11,'Tabela de Peso'!$B$3:$U$3,0)) | G11: =IF($F11="","",$D11*$F11) | H11: =IF($F11="","",$E11*$F11)
A12: 1.5 | B12: 18 a 20 | C12: =INDEX('Tabela de m3'!$B$3:$U$3,MATCH($B12,'Tabela de m3'!$B$4:$U$4,0)) | D12: =INDEX('Tabela de m3'!$B$5:$U$20,MATCH($A12,'Tabela de m3'!$A$5:$A$20,0),MATCH($B12,'Tabela de m3'!$B$4:$U$4,0)) | E12: =INDEX('Tabela de Peso'!$B$4:$U$19,MATCH($A12,'Tabela de Peso'!$A$4:$A$19,0),MATCH($B12,'Tabela de Peso'!$B$3:$U$3,0)) | G12: =IF($F12="","",$D12*$F12) | H12: =IF($F12="","",$E12*$F12)
A13: 1.5 | B13: 20 a 22 | C13: =INDEX('Tabela de m3'!$B$3:$U$3,MATCH($B13,'Tabela de m3'!$B$4:$U$4,0)) | D13: =INDEX('Tabela de m3'!$B$5:$U$20,MATCH($A13,'Tabela de m3'!$A$5:$A$20,0),MATCH($B13,'Tabela de m3'!$B$4:$U$4,0)) | E13: =INDEX('Tabela de Peso'!$B$4:$U$19,MATCH($A13,'Tabela de Peso'!$A$4:$A$19,0),MATCH($B13,'Tabela de Peso'!$B$3:$U$3,0)) | G13: =IF($F13="","",$D13*$F13) | H13: =IF($F13="","",$E13*$F13)
A14: 1.5 | B14: 22 a 24 | C14: =INDEX('Tabela de m3'!$B$3:$U$3,MATCH($B14,'Tabela de m3'!$B$4:$U$4,0)) | D14: =INDEX('Tabela de m3'!$B$5:$U$20,MATCH($A14,'Tabela de m3'!$A$5:$A$20,0),MATCH($B14,'Tabela de m3'!$B$4:$U$4,0)) | E14: =INDEX('Tabela de Peso'!$B$4:$U$19,MATCH($A14,'Tabela de Peso'!$A$4:$A$19,0),MATCH($B14,'Tabela de Peso'!$B$3:$U$3,0)) | G14: =IF($F14="","",$D14*$F14) | H14: =IF($F14="","",$E14*$F14)
A15: 1.5 | B15: 24 a 26 | C15: =INDEX('Tabela de m3'!$B$3:$U$3,MATCH($B15,'Tabela de m3'!$B$4:$U$4,0)) | D15: =INDEX('Tabela de m3'!$B$5:$U$20,MATCH($A15,'Tabela de m3'!$A$5:$A$20,0),MATCH($B15,'Tabela de m3'!$B$4:$U$4,0)) | E15: =INDEX('Tabela de Peso'!$B$4:$U$19,MATCH($A15,'Tabela de Peso'!$A$4:$A$19,0),MATCH($B15,'Tabela de Peso'!$B$3:$U$3,0)) | G15: =IF($F15="","",$D15*$F15) | H15: =IF($F15="","",$E15*$F15)
A16: 1.5 | B16: 26 a 28 | C16: =INDEX('Tabela de m3'!$B$3:$U$3,MATCH($B16,'Tabela de m3'!$B$4:$U$4,0)) | D16: =INDEX('Tabela de m3'!$B$5:$U$20,MATCH($A16,'Tabela de m3'!$A$5:$A$20,0),MATCH($B16,'Tabela de m3'!$B$4:$U$4,0)) | E16: =INDEX('Tabela de Peso'!$B$4:$U$19,MATCH($A16,'Tabela de Peso'!$A$4:$A$19,0),MATCH($B16,'Tabela de Peso'!$B$3:$U$3,0)) | G16: =IF($F16="","",$D16*$F16) | H16: =IF($F16="","",$E16*$F16)
... A27: 2.2 | B27: 08 a 10 | C27: =INDEX('Tabela de m3'!$B$3:$U$3,MATCH($B27,'Tabela de m3'!$B$4:$U$4,0)) | D27: =INDEX('Tabela de m3'!$B$5:$U$20,MATCH($A27,'Tabela de m3'!$A$5:$A$20,0),MATCH($B27,'Tabela de m3'!$B$4:$U$4,0)) | E27: =INDEX('Tabela de Peso'!$B$4:$U$19,MATCH($A27,'Tabela de Peso'!$A$4:$A$19,0),MATCH($B27,'Tabela de Peso'!$B$3:$U$3,0)) | G27: =IF($F27="","",$D27*$F27) | H27: =IF($F27="","",$E27*$F27)
A28: 2.2 | B28: 10 a 12 | C28: =INDEX('Tabela de m3'!$B$3:$U$3,MATCH($B28,'Tabela de m3'!$B$4:$U$4,0)) | D28: =INDEX('Tabela de m3'!$B$5:$U$20,MATCH($A28,'Tabela de m3'!$A$5:$A$20,0),MATCH($B28,'Tabela de m3'!$B$4:$U$4,0)) | E28: =INDEX('Tabela de Peso'!$B$4:$U$19,MATCH($A28,'Tabela de Peso'!$A$4:$A$19,0),MATCH($B28,'Tabela de Peso'!$B$3:$U$3,0)) | F28: 300 | G28: =IF($F28="","",$D28*$F28) | H28: =IF($F28="","",$E28*$F28)
A29: 2.2 | B29: 12 a 14 | C29: =INDEX('Tabela de m3'!$B$3:$U$3,MATCH($B29,'Tabela de m3'!$B$4:$U$4,0)) | D29: =INDEX('Tabela de m3'!$B$5:$U$20,MATCH($A29,'Tabela de m3'!$A$5:$A$20,0),MATCH($B29,'Tabela de m3'!$B$4:$U$4,0)) | E29: =INDEX('Tabela de Peso'!$B$4:$U$19,MATCH($A29,'Tabela de Peso'!$A$4:$A$19,0),MATCH($B29,'Tabela de Peso'!$B$3:$U$3,0)) | G29: =IF($F29="","",$D29*$F29) | H29: =IF($F29="","",$E29*$F29)
A30: 2.2 | B30: 14 a 16 | C30: =INDEX('Tabela de m3'!$B$3:$U$3,MATCH($B30,'Tabela de m3'!$B$4:$U$4,0)) | D30: =INDEX('Tabela de m3'!$B$5:$U$20,MATCH($A30,'Tabela de m3'!$A$5:$A$20,0),MATCH($B30,'Tabela de m3'!$B$4:$U$4,0)) | E30: =INDEX('Tabela de Peso'!$B$4:$U$19,MATCH($A30,'Tabela de Peso'!$A$4:$A$19,0),MATCH($B30,'Tabela de Peso'!$B$3:$U$3,0)) | G30: =IF($F30="","",$D30*$F30) | H30: =IF($F30="","",$E30*$F30)
A31: 2.2 | B31: 16 a 18 | C31: =INDEX('Tabela de m3'!$B$3:$U$3,MATCH($B31,'Tabela de m3'!$B$4:$U$4,0)) | D31: =INDEX('Tabela de m3'!$B$5:$U$20,MATCH($A31,'Tabela de m3'!$A$5:$A$20,0),MATCH($B31,'Tabela de m3'!$B$4:$U$4,0)) | E31: =INDEX('Tabela de Peso'!$B$4:$U$19,MATCH($A31,'Tabela de Peso'!$A$4:$A$19,0),MATCH($B31,'Tabela de Peso'!$B$3:$U$3,0)) | G31: =IF($F31="","",$D31*$F31) | H31: =IF($F31="","",$E31*$F31)
A32: 2.2 | B32: 18 a 20 | C32: =INDEX('Tabela de m3'!$B$3:$U$3,MATCH($B32,'Tabela de m3'!$B$4:$U$4,0)) | D32: =INDEX('Tabela de m3'!$B$5:$U$20,MATCH($A32,'Tabela de m3'!$A$5:$A$20,0),MATCH($B32,'Tabela de m3'!$B$4:$U$4,0)) | E32: =INDEX('Tabela de Peso'!$B$4:$U$19,MATCH($A32,'Tabela de Peso'!$A$4:$A$19,0),MATCH($B32,'Tabela de Peso'!$B$3:$U$3,0)) | G32: =IF($F32="","",$D32*$F32) | H32: =IF($F32="","",$E32*$F32)
A33: 2.2 | B33: 20 a 22 | C33: =INDEX('Tabela de m3'!$B$3:$U$3,MATCH($B33,'Tabela de m3'!$B$4:$U$4,0)) | D33: =INDEX('Tabela de m3'!$B$5:$U$20,MATCH($A33,'Tabela de m3'!$A$5:$A$20,0),MATCH($B33,'Tabela de m3'!$B$4:$U$4,0)) | E33: =INDEX('Tabela de Peso'!$B$4:$U$19,MATCH($A33,'Tabela de Peso'!$A$4:$A$19,0),MATCH($B33,'Tabela de Peso'!$B$3:$U$3,0)) | G33: =IF($F33="","",$D33*$F33) | H33: =IF($F33="","",$E33*$F33)
A34: 2.2 | B34: 22 a 24 | C34: =INDEX('Tabela de m3'!$B$3:$U$3,MATCH($B34,'Tabela de m3'!$B$4:$U$4,0)) | D34: =INDEX('Tabela de m3'!$B$5:$U$20,MATCH($A34,'Tabela de m3'!$A$5:$A$20,0),MATCH($B34,'Tabela de m3'!$B$4:$U$4,0)) | E34: =INDEX('Tabela de Peso'!$B$4:$U$19,MATCH($A34,'Tabela de Peso'!$A$4:$A$19,0),MATCH($B34,'Tabela de Peso'!$B$3:$U$3,0)) | G34: =IF($F34="","",$D34*$F34) | H34: =IF($F34="","",$E34*$F34)
A35: 2.2 | B35: 24 a 26 | C35: =INDEX('Tabela de m3'!$B$3:$U$3,MATCH($B35,'Tabela de m3'!$B$4:$U$4,0)) | D35: =INDEX('Tabela de m3'!$B$5:$U$20,MATCH($A35,'Tabela de m3'!$A$5:$A$20,0),MATCH($B35,'Tabela de m3'!$B$4:$U$4,0)) | E35: =INDEX('Tabela de Peso'!$B$4:$U$19,MATCH($A35,'Tabela de Peso'!$A$4:$A$19,0),MATCH($B35,'Tabela de Peso'!$B$3:$U$3,0)) | G35: =IF($F35="","",$D35*$F35) | H35: =IF($F35="","",$E35*$F35)
A36: 2.2 | B36: 26 a 28 | C36: =INDEX('Tabela de m3'!$B$3:$U$3,MATCH($B36,'Tabela de m3'!$B$4:$U$4,0)) | D36: =INDEX('Tabela de m3'!$B$5:$U$20,MATCH($A36,'Tabela de m3'!$A$5:$A$20,0),MATCH($B36,'Tabela de m3'!$B$4:$U$4,0)) | E36: =INDEX('Tabela de Peso'!$B$4:$U$19,MATCH($A36,'Tabela de Peso'!$A$4:$A$19,0),MATCH($B36,'Tabela de Peso'!$B$3:$U$3,0)) | G36: =IF($F36="","",$D36*$F36) | H36: =IF($F36="","",$E36*$F36)
A37: 2.2 | B37: 28 a 30 | C37: =INDEX('Tabela de m3'!$B$3:$U$3,MATCH($B37,'Tabela de m3'!$B$4:$U$4,0)) | D37: =INDEX('Tabela de m3'!$B$5:$U$20,MATCH($A37,'Tabela de m3'!$A$5:$A$20,0),MATCH($B37,'Tabela de m3'!$B$4:$U$4,0)) | E37: =INDEX('Tabela de Peso'!$B$4:$U$19,MATCH($A37,'Tabela de Peso'!$A$4:$A$19,0),MATCH($B37,'Tabela de Peso'!$B$3:$U$3,0)) | G37: =IF($F37="","",$D37*$F37) | H37: =IF($F37="","",$E37*$F37)
A38: 2.2 | B38: 30 a 32 | C38: =INDEX('Tabela de m3'!$B$3:$U$3,MATCH($B38,'Tabela de m3'!$B$4:$U$4,0)) | D38: =INDEX('Tabela de m3'!$B$5:$U$20,MATCH($A38,'Tabela de m3'!$A$5:$A$20,0),MATCH($B38,'Tabela de m3'!$B$4:$U$4,0)) | E38: =INDEX('Tabela de Peso'!$B$4:$U$19,MATCH($A38,'Tabela de Peso'!$A$4:$A$19,0),MATCH($B38,'Tabela de Peso'!$B$3:$U$3,0)) | G38: =IF($F38="","",$D38*$F38) | H38: =IF($F38="","",$E38*$F38)
A39: 2.2 | B39: 32 a 34 | C39: =INDEX('Tabela de m3'!$B$3:$U$3,MATCH($B39,'Tabela de m3'!$B$4:$U$4,0)) | D39: =INDEX('Tabela de m3'!$B$5:$U$20,MATCH($A39,'Tabela de m3'!$A$5:$A$20,0),MATCH($B39,'Tabela de m3'!$B$4:$U$4,0)) | E39: =INDEX('Tabela de Peso'!$B$4:$U$19,MATCH($A39,'Tabela de Peso'!$A$4:$A$19,0),MATCH($B39,'Tabela de Peso'!$B$3:$U$3,0)) | G39: =IF($F39="","",$D39*$F39) | H39: =IF($F39="","",$E39*$F39)
A40: 2.2 | B40: 34 a 36 | C40: =INDEX('Tabela de m3'!$B$3:$U$3,MATCH($B40,'Tabela de m3'!$B$4:$U$4,0)) | D40: =INDEX('Tabela de m3'!$B$5:$U$20,MATCH($A40,'Tabela de m3'!$A$5:$A$20,0),MATCH($B40,'Tabela de m3'!$B$4:$U$4,0)) | E40: =INDEX('Tabela de Peso'!$B$4:$U$19,MATCH($A40,'Tabela de Peso'!$A$4:$A$19,0),MATCH($B40,'Tabela de Peso'!$B$3:$U$3,0)) | G40: =IF($F40="","",$D40*$F40) | H40: =IF($F40="","",$E40*$F40)
... A70: 3 | B70: 14 a 16 | C70: =INDEX('Tabela de m3'!$B$3:$U$3,MATCH($B70,'Tabela de m3'!$B$4:$U$4,0)) | D70: =INDEX('Tabela de m3'!$B$5:$U$20,MATCH($A70,'Tabela de m3'!$A$5:$A$20,0),MATCH($B70,'Tabela de m3'!$B$4:$U$4,0)) | E70: =INDEX('Tabela de Peso'!$B$4:$U$19,MATCH($A70,'Tabela de Peso'!$A$4:$A$19,0),MATCH($B70,'Tabela de Peso'!$B$3:$U$3,0)) | G70: =IF($F70="","",$D70*$F70) | H70: =IF($F70="","",$E70*$F70)
A71: 3 | B71: 16 a 18 | C71: =INDEX('Tabela de m3'!$B$3:$U$3,MATCH($B71,'Tabela de m3'!$B$4:$U$4,0)) | D71: =INDEX('Tabela de m3'!$B$5:$U$20,MATCH($A71,'Tabela de m3'!$A$5:$A$20,0),MATCH($B71,'Tabela de m3'!$B$4:$U$4,0)) | E71: =INDEX('Tabela de Peso'!$B$4:$U$19,MATCH($A71,'Tabela de Peso'!$A$4:$A$19,0),MATCH($B71,'Tabela de Peso'!$B$3:$U$3,0)) | F71: 120 | G71: =IF($F71="","",$D71*$F71) | H71: =IF($F71="","",$E71*$F71)
A72: 3 | B72: 18 a 20 | C72: =INDEX('Tabela de m3'!$B$3:$U$3,MATCH($B72,'Tabela de m3'!$B$4:$U$4,0)) | D72: =INDEX('Tabela de m3'!$B$5:$U$20,MATCH($A72,'Tabela de m3'!$A$5:$A$20,0),MATCH($B72,'Tabela de m3'!$B$4:$U$4,0)) | E72: =INDEX('Tabela de Peso'!$B$4:$U$19,MATCH($A72,'Tabela de Peso'!$A$4:$A$19,0),MATCH($B72,'Tabela de Peso'!$B$3:$U$3,0)) | G72: =IF($F72="","",$D72*$F72) | H72: =IF($F72="","",$E72*$F72)
A73: 3 | B73: 20 a 22 | C73: =INDEX('Tabela de m3'!$B$3:$U$3,MATCH($B73,'Tabela de m3'!$B$4:$U$4,0)) | D73: =INDEX('Tabela de m3'!$B$5:$U$20,MATCH($A73,'Tabela de m3'!$A$5:$A$20,0),MATCH($B73,'Tabela de m3'!$B$4:$U$4,0)) | E73: =INDEX('Tabela de Peso'!$B$4:$U$19,MATCH($A73,'Tabela de Peso'!$A$4:$A$19,0),MATCH($B73,'Tabela de Peso'!$B$3:$U$3,0)) | G73: =IF($F73="","",$D73*$F73) | H73: =IF($F73="","",$E73*$F73)
A74: 3 | B74: 22 a 24 | C74: =INDEX('Tabela de m3'!$B$3:$U$3,MATCH($B74,'Tabela de m3'!$B$4:$U$4,0)) | D74: =INDEX('Tabela de m3'!$B$5:$U$20,MATCH($A74,'Tabela de m3'!$A$5:$A$20,0),MATCH($B74,'Tabela de m3'!$B$4:$U$4,0)) | E74: =INDEX('Tabela de Peso'!$B$4:$U$19,MATCH($A74,'Tabela de Peso'!$A$4:$A$19,0),MATCH($B74,'Tabela de Peso'!$B$3:$U$3,0)) | G74: =IF($F74="","",$D74*$F74) | H74: =IF($F74="","",$E74*$F74)
A75: 3 | B75: 24 a 26 | C75: =INDEX('Tabela de m3'!$B$3:$U$3,MATCH($B75,'Tabela de m3'!$B$4:$U$4,0)) | D75: =INDEX('Tabela de m3'!$B$5:$U$20,MATCH($A75,'Tabela de m3'!$A$5:$A$20,0),MATCH($B75,'Tabela de m3'!$B$4:$U$4,0)) | E75: =INDEX('Tabela de Peso'!$B$4:$U$19,MATCH($A75,'Tabela de Peso'!$A$4:$A$19,0),MATCH($B75,'Tabela de Peso'!$B$3:$U$3,0)) | G75: =IF($F75="","",$D75*$F75) | H75: =IF($F75="","",$E75*$F75)
A76: 3 | B76: 26 a 28 | C76: =INDEX('Tabela de m3'!$B$3:$U$3,MATCH($B76,'Tabela de m3'!$B$4:$U$4,0)) | D76: =INDEX('Tabela de m3'!$B$5:$U$20,MATCH($A76,'Tabela de m3'!$A$5:$A$20,0),MATCH($B76,'Tabela de m3'!$B$4:$U$4,0)) | E76: =INDEX('Tabela de Peso'!$B$4:$U$19,MATCH($A76,'Tabela de Peso'!$A$4:$A$19,0),MATCH($B76,'Tabela de Peso'!$B$3:$U$3,0)) | G76: =IF($F76="","",$D76*$F76) | H76: =IF($F76="","",$E76*$F76)
A77: 3 | B77: 28 a 30 | C77: =INDEX('Tabela de m3'!$B$3:$U$3,MATCH($B77,'Tabela de m3'!$B$4:$U$4,0)) | D77: =INDEX('Tabela de m3'!$B$5:$U$20,MATCH($A77,'Tabela de m3'!$A$5:$A$20,0),MATCH($B77,'Tabela de m3'!$B$4:$U$4,0)) | E77: =INDEX('Tabela de Peso'!$B$4:$U$19,MATCH($A77,'Tabela de Peso'!$A$4:$A$19,0),MATCH($B77,'Tabela de Peso'!$B$3:$U$3,0)) | G77: =IF($F77="","",$D77*$F77) | H77: =IF($F77="","",$E77*$F77)
A78: 3 | B78: 30 a 32 | C78: =INDEX('Tabela de m3'!$B$3:$U$3,MATCH($B78,'Tabela de m3'!$B$4:$U$4,0)) | D78: =INDEX('Tabela de m3'!$B$5:$U$20,MATCH($A78,'Tabela de m3'!$A$5:$A$20,0),MATCH($B78,'Tabela de m3'!$B$4:$U$4,0)) | E78: =INDEX('Tabela de Peso'!$B$4:$U$19,MATCH($A78,'Tabela de Peso'!$A$4:$A$19,0),MATCH($B78,'Tabela de Peso'!$B$3:$U$3,0)) | G78: =IF($F78="","",$D78*$F78) | H78: =IF($F78="","",$E78*$F78)
A79: 3 | B79: 32 a 34 | C79: =INDEX('Tabela de m3'!$B$3:$U$3,MATCH($B79,'Tabela de m3'!$B$4:$U$4,0)) | D79: =INDEX('Tabela de m3'!$B$5:$U$20,MATCH($A79,'Tabela de m3'!$A$5:$A$20,0),MATCH($B79,'Tabela de m3'!$B$4:$U$4,0)) | E79: =INDEX('Tabela de Peso'!$B$4:$U$19,MATCH($A79,'Tabela de Peso'!$A$4:$A$19,0),MATCH($B79,'Tabela de Peso'!$B$3:$U$3,0)) | G79: =IF($F79="","",$D79*$F79) | H79: =IF($F79="","",$E79*$F79)
A80: 3 | B80: 34 a 36 | C80: =INDEX('Tabela de m3'!$B$3:$U$3,MATCH($B80,'Tabela de m3'!$B$4:$U$4,0)) | D80: =INDEX('Tabela de m3'!$B$5:$U$20,MATCH($A80,'Tabela de m3'!$A$5:$A$20,0),MATCH($B80,'Tabela de m3'!$B$4:$U$4,0)) | E80: =INDEX('Tabela de Peso'!$B$4:$U$19,MATCH($A80,'Tabela de Peso'!$A$4:$A$19,0),MATCH($B80,'Tabela de Peso'!$B$3:$U$3,0)) | G80: =IF($F80="","",$D80*$F80) | H80: =IF($F80="","",$E80*$F80)
...

Sheet Orçamento por m³
D1: ORÇAMENTO POR M³
D2: Eagle Tecnologia • eagletecnologia.com/segmentos/madeireira/
D3: Falar no WhatsApp: (33) 3038-1657
A6: Cliente:
A7: Data:
A8: Validade da proposta:
A10: Bitola (cm) | B10: Comprimento (m) | C10: Quantidade de peças | D10: m³ por peça | E10: m³ total | F10: Peso total (kg) | G10: Preço por m³ (R$) | H10: Valor total (R$)
A11: 20 a 22 | B11: 6 | C11: 40 | D11: =IF(OR($A11="",$B11=""),"",INDEX('Tabela de m3'!$B$5:$U$20,MATCH($B11,'Tabela de m3'!$A$5:$A$20,0),MATCH($A11,'Tabela de m3'!$B$4:$U$4,0))) | E11: =IF(OR($D11="",$C11=""),"",$D11*$C11) | F11: =IF(OR($A11="",$B11="",$C11=""),"",INDEX('Tabela de Peso'!$B$4:$U$19,MATCH($B11,'Tabela de Peso'!$A$4:$A$19,0),MATCH($A11,'Tabela de Peso'!$B$3:$U$3,0))*$C11) | G11: 900 | H11: =IF(OR($E11="",$G11=""),"",$E11*$G11)
A12: 16 a 18 | B12: 3 | C12: 120 | D12: =IF(OR($A12="",$B12=""),"",INDEX('Tabela de m3'!$B$5:$U$20,MATCH($B12,'Tabela de m3'!$A$5:$A$20,0),MATCH($A12,'Tabela de m3'!$B$4:$U$4,0))) | E12: =IF(OR($D12="",$C12=""),"",$D12*$C12) | F12: =IF(OR($A12="",$B12="",$C12=""),"",INDEX('Tabela de Peso'!$B$4:$U$19,MATCH($B12,'Tabela de Peso'!$A$4:$A$19,0),MATCH($A12,'Tabela de Peso'!$B$3:$U$3,0))*$C12) | G12: 820 | H12: =IF(OR($E12="",$G12=""),"",$E12*$G12)
D13: =IF(OR($A13="",$B13=""),"",INDEX('Tabela de m3'!$B$5:$U$20,MATCH($B13,'Tabela de m3'!$A$5:$A$20,0),MATCH($A13,'Tabela de m3'!$B$4:$U$4,0))) | E13: =IF(OR($D13="",$C13=""),"",$D13*$C13) | F13: =IF(OR($A13="",$B13="",$C13=""),"",INDEX('Tabela de Peso'!$B$4:$U$19,MATCH($B13,'Tabela de Peso'!$A$4:$A$19,0),MATCH($A13,'Tabela de Peso'!$B$3:$U$3,0))*$C13) | H13: =IF(OR($E13="",$G13=""),"",$E13*$G13)
D14: =IF(OR($A14="",$B14=""),"",INDEX('Tabela de m3'!$B$5:$U$20,MATCH($B14,'Tabela de m3'!$A$5:$A$20,0),MATCH($A14,'Tabela de m3'!$B$4:$U$4,0))) | E14: =IF(OR($D14="",$C14=""),"",$D14*$C14) | F14: =IF(OR($A14="",$B14="",$C14=""),"",INDEX('Tabela de Peso'!$B$4:$U$19,MATCH($B14,'Tabela de Peso'!$A$4:$A$19,0),MATCH($A14,'Tabela de Peso'!$B$3:$U$3,0))*$C14) | H14: =IF(OR($E14="",$G14=""),"",$E14*$G14)
D15: =IF(OR($A15="",$B15=""),"",INDEX('Tabela de m3'!$B$5:$U$20,MATCH($B15,'Tabela de m3'!$A$5:$A$20,0),MATCH($A15,'Tabela de m3'!$B$4:$U$4,0))) | E15: =IF(OR($D15="",$C15=""),"",$D15*$C15) | F15: =IF(OR($A15="",$B15="",$C15=""),"",INDEX('Tabela de Peso'!$B$4:$U$19,MATCH($B15,'Tabela de Peso'!$A$4:$A$19,0),MATCH($A15,'Tabela de Peso'!$B$3:$U$3,0))*$C15) | H15: =IF(OR($E15="",$G15=""),"",$E15*$G15)
D16: =IF(OR($A16="",$B16=""),"",INDEX('Tabela de m3'!$B$5:$U$20,MATCH($B16,'Tabela de m3'!$A$5:$A$20,0),MATCH($A16,'Tabela de m3'!$B$4:$U$4,0))) | E16: =IF(OR($D16="",$C16=""),"",$D16*$C16) | F16: =IF(OR($A16="",$B16="",$C16=""),"",INDEX('Tabela de Peso'!$B$4:$U$19,MATCH($B16,'Tabela de Peso'!$A$4:$A$19,0),MATCH($A16,'Tabela de Peso'!$B$3:$U$3,0))*$C16) | H16: =IF(OR($E16="",$G16=""),"",$E16*$G16)
D17: =IF(OR($A17="",$B17=""),"",INDEX('Tabela de m3'!$B$5:$U$20,MATCH($B17,'Tabela de m3'!$A$5:$A$20,0),MATCH($A17,'Tabela de m3'!$B$4:$U$4,0))) | E17: =IF(OR($D17="",$C17=""),"",$D17*$C17) | F17: =IF(OR($A17="",$B17="",$C17=""),"",INDEX('Tabela de Peso'!$B$4:$U$19,MATCH($B17,'Tabela de Peso'!$A$4:$A$19,0),MATCH($A17,'Tabela de Peso'!$B$3:$U$3,0))*$C17) | H17: =IF(OR($E17="",$G17=""),"",$E17*$G17)
D18: =IF(OR($A18="",$B18=""),"",INDEX('Tabela de m3'!$B$5:$U$20,MATCH($B18,'Tabela de m3'!$A$5:$A$20,0),MATCH($A18,'Tabela de m3'!$B$4:$U$4,0))) | E18: =IF(OR($D18="",$C18=""),"",$D18*$C18) | F18: =IF(OR($A18="",$B18="",$C18=""),"",INDEX('Tabela de Peso'!$B$4:$U$19,MATCH($B18,'Tabela de Peso'!$A$4:$A$19,0),MATCH($A18,'Tabela de Peso'!$B$3:$U$3,0))*$C18) | H18: =IF(OR($E18="",$G18=""),"",$E18*$G18)
D19: =IF(OR($A19="",$B19=""),"",INDEX('Tabela de m3'!$B$5:$U$20,MATCH($B19,'Tabela de m3'!$A$5:$A$20,0),MATCH($A19,'Tabela de m3'!$B$4:$U$4,0))) | E19: =IF(OR($D19="",$C19=""),"",$D19*$C19) | F19: =IF(OR($A19="",$B19="",$C19=""),"",INDEX('Tabela de Peso'!$B$4:$U$19,MATCH($B19,'Tabela de Peso'!$A$4:$A$19,0),MATCH($A19,'Tabela de Peso'!$B$3:$U$3,0))*$C19) | H19: =IF(OR($E19="",$G19=""),"",$E19*$G19)
D20: =IF(OR($A20="",$B20=""),"",INDEX('Tabela de m3'!$B$5:$U$20,MATCH($B20,'Tabela de m3'!$A$5:$A$20,0),MATCH($A20,'Tabela de m3'!$B$4:$U$4,0))) | E20: =IF(OR($D20="",$C20=""),"",$D20*$C20) | F20: =IF(OR($A20="",$B20="",$C20=""),"",INDEX('Tabela de Peso'!$B$4:$U$19,MATCH($B20,'Tabela de Peso'!$A$4:$A$19,0),MATCH($A20,'Tabela de Peso'!$B$3:$U$3,0))*$C20) | H20: =IF(OR($E20="",$G20=""),"",$E20*$G20)
D21: =IF(OR($A21="",$B21=""),"",INDEX('Tabela de m3'!$B$5:$U$20,MATCH($B21,'Tabela de m3'!$A$5:$A$20,0),MATCH($A21,'Tabela de m3'!$B$4:$U$4,0))) | E21: =IF(OR($D21="",$C21=""),"",$D21*$C21) | F21: =IF(OR($A21="",$B21="",$C21=""),"",INDEX('Tabela de Peso'!$B$4:$U$19,MATCH($B21,'Tabela de Peso'!$A$4:$A$19,0),MATCH($A21,'Tabela de Peso'!$B$3:$U$3,0))*$C21) | H21: =IF(OR($E21="",$G21=""),"",$E21*$G21)
D22: =IF(OR($A22="",$B22=""),"",INDEX('Tabela de m3'!$B$5:$U$20,MATCH($B22,'Tabela de m3'!$A$5:$A$20,0),MATCH($A22,'Tabela de m3'!$B$4:$U$4,0))) | E22: =IF(OR($D22="",$C22=""),"",$D22*$C22) | F22: =IF(OR($A22="",$B22="",$C22=""),"",INDEX('Tabela de Peso'!$B$4:$U$19,MATCH($B22,'Tabela de Peso'!$A$4:$A$19,0),MATCH($A22,'Tabela de Peso'!$B$3:$U$3,0))*$C22) | H22: =IF(OR($E22="",$G22=""),"",$E22*$G22)
D23: =IF(OR($A23="",$B23=""),"",INDEX('Tabela de m3'!$B$5:$U$20,MATCH($B23,'Tabela de m3'!$A$5:$A$20,0),MATCH($A23,'Tabela de m3'!$B$4:$U$4,0))) | E23: =IF(OR($D23="",$C23=""),"",$D23*$C23) | F23: =IF(OR($A23="",$B23="",$C23=""),"",INDEX('Tabela de Peso'!$B$4:$U$19,MATCH($B23,'Tabela de Peso'!$A$4:$A$19,0),MATCH($A23,'Tabela de Peso'!$B$3:$U$3,0))*$C23) | H23: =IF(OR($E23="",$G23=""),"",$E23*$G23)
D24: =IF(OR($A24="",$B24=""),"",INDEX('Tabela de m3'!$B$5:$U$20,MATCH($B24,'Tabela de m3'!$A$5:$A$20,0),MATCH($A24,'Tabela de m3'!$B$4:$U$4,0))) | E24: =IF(OR($D24="",$C24=""),"",$D24*$C24) | F24: =IF(OR($A24="",$B24="",$C24=""),"",INDEX('Tabela de Peso'!$B$4:$U$19,MATCH($B24,'Tabela de Peso'!$A$4:$A$19,0),MATCH($A24,'Tabela de Peso'!$B$3:$U$3,0))*$C24) | H24: =IF(OR($E24="",$G24=""),"",$E24*$G24)
D25: =IF(OR($A25="",$B25=""),"",INDEX('Tabela de m3'!$B$5:$U$20,MATCH($B25,'Tabela de m3'!$A$5:$A$20,0),MATCH($A25,'Tabela de m3'!$B$4:$U$4,0))) | E25: =IF(OR($D25="",$C25=""),"",$D25*$C25) | F25: =IF(OR($A25="",$B25="",$C25=""),"",INDEX('Tabela de Peso'!$B$4:$U$19,MATCH($B25,'Tabela de Peso'!$A$4:$A$19,0),MATCH($A25,'Tabela de Peso'!$B$3:$U$3,0))*$C25) | H25: =IF(OR($E25="",$G25=""),"",$E25*$G25)
D27: Subtotal (R$) | F27: =SUM(H11:H25)
D28: Desconto (%) | F28: 0
D29: Frete (R$) | F29: 0
D30: TOTAL DO ORÇAMENTO (R$) | F30: =F27*(1-F28)+F29
D31: Forma de pagamento:
D32: Condições / detalhes: | F32: Ex.: à vista no Pix | ou 50% de entrada e o saldo em 2x no boleto (30/60 dias).
A35: Resumo: | B35: =SUM(C11:C25) | C35: peças | D35: =SUM(E11:E25) | E35: m³ | F35: =SUM(F11:F25)/1000 | G35: toneladas
A37: Preencha as células bege. Bitola, comprimento e forma de pagamento saem de listas (a forma de pagamento também aceita texto). Preços, desconto e frete são referência sua; ajuste conforme a negociação.

Sheet Orçamento por Peça
D1: ORÇAMENTO POR PEÇA
D2: Eagle Tecnologia • eagletecnologia.com/segmentos/madeireira/
D3: Falar no WhatsApp: (33) 3038-1657
A6: Cliente:
A7: Data:
A8: Validade da proposta:
A10: Bitola (cm) | B10: Comprimento (m) | C10: Quantidade de peças | D10: m³ por peça | E10: m³ total | F10: Peso total (kg) | G10: Preço por peça (R$) | H10: Valor total (R$)
A11: 20 a 22 | B11: 6 | C11: 40 | D11: =IF(OR($A11="",$B11=""),"",INDEX('Tabela de m3'!$B$5:$U$20,MATCH($B11,'Tabela de m3'!$A$5:$A$20,0),MATCH($A11,'Tabela de m3'!$B$4:$U$4,0))) | E11: =IF(OR($D11="",$C11=""),"",$D11*$C11) | F11: =IF(OR($A11="",$B11="",$C11=""),"",INDEX('Tabela de Peso'!$B$4:$U$19,MATCH($B11,'Tabela de Peso'!$A$4:$A$19,0),MATCH($A11,'Tabela de Peso'!$B$3:$U$3,0))*$C11) | G11: 190 | H11: =IF(OR($C11="",$G11=""),"",$C11*$G11)
A12: 16 a 18 | B12: 3 | C12: 120 | D12: =IF(OR($A12="",$B12=""),"",INDEX('Tabela de m3'!$B$5:$U$20,MATCH($B12,'Tabela de m3'!$A$5:$A$20,0),MATCH($A12,'Tabela de m3'!$B$4:$U$4,0))) | E12: =IF(OR($D12="",$C12=""),"",$D12*$C12) | F12: =IF(OR($A12="",$B12="",$C12=""),"",INDEX('Tabela de Peso'!$B$4:$U$19,MATCH($B12,'Tabela de Peso'!$A$4:$A$19,0),MATCH($A12,'Tabela de Peso'!$B$3:$U$3,0))*$C12) | G12: 60 | H12: =IF(OR($C12="",$G12=""),"",$C12*$G12)
D13: =IF(OR($A13="",$B13=""),"",INDEX('Tabela de m3'!$B$5:$U$20,MATCH($B13,'Tabela de m3'!$A$5:$A$20,0),MATCH($A13,'Tabela de m3'!$B$4:$U$4,0))) | E13: =IF(OR($D13="",$C13=""),"",$D13*$C13) | F13: =IF(OR($A13="",$B13="",$C13=""),"",INDEX('Tabela de Peso'!$B$4:$U$19,MATCH($B13,'Tabela de Peso'!$A$4:$A$19,0),MATCH($A13,'Tabela de Peso'!$B$3:$U$3,0))*$C13) | H13: =IF(OR($C13="",$G13=""),"",$C13*$G13)
D14: =IF(OR($A14="",$B14=""),"",INDEX('Tabela de m3'!$B$5:$U$20,MATCH($B14,'Tabela de m3'!$A$5:$A$20,0),MATCH($A14,'Tabela de m3'!$B$4:$U$4,0))) | E14: =IF(OR($D14="",$C14=""),"",$D14*$C14) | F14: =IF(OR($A14="",$B14="",$C14=""),"",INDEX('Tabela de Peso'!$B$4:$U$19,MATCH($B14,'Tabela de Peso'!$A$4:$A$19,0),MATCH($A14,'Tabela de Peso'!$B$3:$U$3,0))*$C14) | H14: =IF(OR($C14="",$G14=""),"",$C14*$G14)
D15: =IF(OR($A15="",$B15=""),"",INDEX('Tabela de m3'!$B$5:$U$20,MATCH($B15,'Tabela de m3'!$A$5:$A$20,0),MATCH($A15,'Tabela de m3'!$B$4:$U$4,0))) | E15: =IF(OR($D15="",$C15=""),"",$D15*$C15) | F15: =IF(OR($A15="",$B15="",$C15=""),"",INDEX('Tabela de Peso'!$B$4:$U$19,MATCH($B15,'Tabela de Peso'!$A$4:$A$19,0),MATCH($A15,'Tabela de Peso'!$B$3:$U$3,0))*$C15) | H15: =IF(OR($C15="",$G15=""),"",$C15*$G15)
D16: =IF(OR($A16="",$B16=""),"",INDEX('Tabela de m3'!$B$5:$U$20,MATCH($B16,'Tabela de m3'!$A$5:$A$20,0),MATCH($A16,'Tabela de m3'!$B$4:$U$4,0))) | E16: =IF(OR($D16="",$C16=""),"",$D16*$C16) | F16: =IF(OR($A16="",$B16="",$C16=""),"",INDEX('Tabela de Peso'!$B$4:$U$19,MATCH($B16,'Tabela de Peso'!$A$4:$A$19,0),MATCH($A16,'Tabela de Peso'!$B$3:$U$3,0))*$C16) | H16: =IF(OR($C16="",$G16=""),"",$C16*$G16)
D17: =IF(OR($A17="",$B17=""),"",INDEX('Tabela de m3'!$B$5:$U$20,MATCH($B17,'Tabela de m3'!$A$5:$A$20,0),MATCH($A17,'Tabela de m3'!$B$4:$U$4,0))) | E17: =IF(OR($D17="",$C17=""),"",$D17*$C17) | F17: =IF(OR($A17="",$B17="",$C17=""),"",INDEX('Tabela de Peso'!$B$4:$U$19,MATCH($B17,'Tabela de Peso'!$A$4:$A$19,0),MATCH($A17,'Tabela de Peso'!$B$3:$U$3,0))*$C17) | H17: =IF(OR($C17="",$G17=""),"",$C17*$G17)
D18: =IF(OR($A18="",$B18=""),"",INDEX('Tabela de m3'!$B$5:$U$20,MATCH($B18,'Tabela de m3'!$A$5:$A$20,0),MATCH($A18,'Tabela de m3'!$B$4:$U$4,0))) | E18: =IF(OR($D18="",$C18=""),"",$D18*$C18) | F18: =IF(OR($A18="",$B18="",$C18=""),"",INDEX('Tabela de Peso'!$B$4:$U$19,MATCH($B18,'Tabela de Peso'!$A$4:$A$19,0),MATCH($A18,'Tabela de Peso'!$B$3:$U$3,0))*$C18) | H18: =IF(OR($C18="",$G18=""),"",$C18*$G18)
D19: =IF(OR($A19="",$B19=""),"",INDEX('Tabela de m3'!$B$5:$U$20,MATCH($B19,'Tabela de m3'!$A$5:$A$20,0),MATCH($A19,'Tabela de m3'!$B$4:$U$4,0))) | E19: =IF(OR($D19="",$C19=""),"",$D19*$C19) | F19: =IF(OR($A19="",$B19="",$C19=""),"",INDEX('Tabela de Peso'!$B$4:$U$19,MATCH($B19,'Tabela de Peso'!$A$4:$A$19,0),MATCH($A19,'Tabela de Peso'!$B$3:$U$3,0))*$C19) | H19: =IF(OR($C19="",$G19=""),"",$C19*$G19)
D20: =IF(OR($A20="",$B20=""),"",INDEX('Tabela de m3'!$B$5:$U$20,MATCH($B20,'Tabela de m3'!$A$5:$A$20,0),MATCH($A20,'Tabela de m3'!$B$4:$U$4,0))) | E20: =IF(OR($D20="",$C20=""),"",$D20*$C20) | F20: =IF(OR($A20="",$B20="",$C20=""),"",INDEX('Tabela de Peso'!$B$4:$U$19,MATCH($B20,'Tabela de Peso'!$A$4:$A$19,0),MATCH($A20,'Tabela de Peso'!$B$3:$U$3,0))*$C20) | H20: =IF(OR($C20="",$G20=""),"",$C20*$G20)
D21: =IF(OR($A21="",$B21=""),"",INDEX('Tabela de m3'!$B$5:$U$20,MATCH($B21,'Tabela de m3'!$A$5:$A$20,0),MATCH($A21,'Tabela de m3'!$B$4:$U$4,0))) | E21: =IF(OR($D21="",$C21=""),"",$D21*$C21) | F21: =IF(OR($A21="",$B21="",$C21=""),"",INDEX('Tabela de Peso'!$B$4:$U$19,MATCH($B21,'Tabela de Peso'!$A$4:$A$19,0),MATCH($A21,'Tabela de Peso'!$B$3:$U$3,0))*$C21) | H21: =IF(OR($C21="",$G21=""),"",$C21*$G21)
D22: =IF(OR($A22="",$B22=""),"",INDEX('Tabela de m3'!$B$5:$U$20,MATCH($B22,'Tabela de m3'!$A$5:$A$20,0),MATCH($A22,'Tabela de m3'!$B$4:$U$4,0))) | E22: =IF(OR($D22="",$C22=""),"",$D22*$C22) | F22: =IF(OR($A22="",$B22="",$C22=""),"",INDEX('Tabela de Peso'!$B$4:$U$19,MATCH($B22,'Tabela de Peso'!$A$4:$A$19,0),MATCH($A22,'Tabela de Peso'!$B$3:$U$3,0))*$C22) | H22: =IF(OR($C22="",$G22=""),"",$C22*$G22)
D23: =IF(OR($A23="",$B23=""),"",INDEX('Tabela de m3'!$B$5:$U$20,MATCH($B23,'Tabela de m3'!$A$5:$A$20,0),MATCH($A23,'Tabela de m3'!$B$4:$U$4,0))) | E23: =IF(OR($D23="",$C23=""),"",$D23*$C23) | F23: =IF(OR($A23="",$B23="",$C23=""),"",INDEX('Tabela de Peso'!$B$4:$U$19,MATCH($B23,'Tabela de Peso'!$A$4:$A$19,0),MATCH($A23,'Tabela de Peso'!$B$3:$U$3,0))*$C23) | H23: =IF(OR($C23="",$G23=""),"",$C23*$G23)
D24: =IF(OR($A24="",$B24=""),"",INDEX('Tabela de m3'!$B$5:$U$20,MATCH($B24,'Tabela de m3'!$A$5:$A$20,0),MATCH($A24,'Tabela de m3'!$B$4:$U$4,0))) | E24: =IF(OR($D24="",$C24=""),"",$D24*$C24) | F24: =IF(OR($A24="",$B24="",$C24=""),"",INDEX('Tabela de Peso'!$B$4:$U$19,MATCH($B24,'Tabela de Peso'!$A$4:$A$19,0),MATCH($A24,'Tabela de Peso'!$B$3:$U$3,0))*$C24) | H24: =IF(OR($C24="",$G24=""),"",$C24*$G24)
D25: =IF(OR($A25="",$B25=""),"",INDEX('Tabela de m3'!$B$5:$U$20,MATCH($B25,'Tabela de m3'!$A$5:$A$20,0),MATCH($A25,'Tabela de m3'!$B$4:$U$4,0))) | E25: =IF(OR($D25="",$C25=""),"",$D25*$C25) | F25: =IF(OR($A25="",$B25="",$C25=""),"",INDEX('Tabela de Peso'!$B$4:$U$19,MATCH($B25,'Tabela de Peso'!$A$4:$A$19,0),MATCH($A25,'Tabela de Peso'!$B$3:$U$3,0))*$C25) | H25: =IF(OR($C25="",$G25=""),"",$C25*$G25)
D27: Subtotal (R$) | F27: =SUM(H11:H25)
D28: Desconto (%) | F28: 0
D29: Frete (R$) | F29: 0
D30: TOTAL DO ORÇAMENTO (R$) | F30: =F27*(1-F28)+F29
D31: Forma de pagamento:
D32: Condições / detalhes: | F32: Ex.: à vista no Pix | ou 50% de entrada e o saldo em 2x no boleto (30/60 dias).
A35: Resumo: | B35: =SUM(C11:C25) | C35: peças | D35: =SUM(E11:E25) | E35: m³ | F35: =SUM(F11:F25)/1000 | G35: toneladas
A37: Preencha as células bege. Bitola, comprimento e forma de pagamento saem de listas (a forma de pagamento também aceita texto). Preços, desconto e frete são referência sua; ajuste conforme a negociação.

Sheet Tabela de m3
A1: TABELA DE m³ POR PEÇA (referência)
A2: m³ de uma peça = (π ÷ 4) x (diâmetro médio em m)² x comprimento. O diâmetro médio (linha 3) é editável.
A3: Diâmetro médio (cm) → | B3: 5 | C3: 7 | D3: 9 | E3: 11 | F3: 13 | G3: 15 | H3: 17 | I3: 19 | J3: 21 | K3: 23 | L3: 25 | M3: 27 | N3: 29 | O3: 31 | P3: 33 | Q3: 35 | R3: 37 | S3: 39 | T3: 41 | U3: 43
A4: Comprimento (m) | B4: 04 a 06 | C4: 06 a 08 | D4: 08 a 10 | E4: 10 a 12 | F4: 12 a 14 | G4: 14 a 16 | H4: 16 a 18 | I4: 18 a 20 | J4: 20 a 22 | K4: 22 a 24 | L4: 24 a 26 | M4: 26 a 28 | N4: 28 a 30 | O4: 30 a 32 | P4: 32 a 34 | Q4: 34 a 36 | R4: 36 a 38 | S4: 38 a 40 | T4: 40 a 42 | U4: 42 a 44
A5: 1.5 | B5: =(PI()/4)*((B$3/100)^2)*$A5 | C5: =(PI()/4)*((C$3/100)^2)*$A5 | D5: =(PI()/4)*((D$3/100)^2)*$A5 | E5: =(PI()/4)*((E$3/100)^2)*$A5 | F5: =(PI()/4)*((F$3/100)^2)*$A5 | G5: =(PI()/4)*((G$3/100)^2)*$A5 | H5: =(PI()/4)*((H$3/100)^2)*$A5 | I5: =(PI()/4)*((I$3/100)^2)*$A5 | ... U5: =(PI()/4)*((U$3/100)^2)*$A5
A6: 2.2 | B6: =(PI()/4)*((B$3/100)^2)*$A6 | C6: =(PI()/4)*((C$3/100)^2)*$A6 | D6: =(PI()/4)*((D$3/100)^2)*$A6 | E6: =(PI()/4)*((E$3/100)^2)*$A6 | F6: =(PI()/4)*((F$3/100)^2)*$A6 | G6: =(PI()/4)*((G$3/100)^2)*$A6 | H6: =(PI()/4)*((H$3/100)^2)*$A6 | I6: =(PI()/4)*((I$3/100)^2)*$A6 | ... U6: =(PI()/4)*((U$3/100)^2)*$A6
A7: 2.5 | B7: =(PI()/4)*((B$3/100)^2)*$A7 | C7: =(PI()/4)*((C$3/100)^2)*$A7 | D7: =(PI()/4)*((D$3/100)^2)*$A7 | E7: =(PI()/4)*((E$3/100)^2)*$A7 | F7: =(PI()/4)*((F$3/100)^2)*$A7 | G7: =(PI()/4)*((G$3/100)^2)*$A7 | H7: =(PI()/4)*((H$3/100)^2)*$A7 | I7: =(PI()/4)*((I$3/100)^2)*$A7 | ... U7: =(PI()/4)*((U$3/100)^2)*$A7
A8: 3 | B8: =(PI()/4)*((B$3/100)^2)*$A8 | C8: =(PI()/4)*((C$3/100)^2)*$A8 | D8: =(PI()/4)*((D$3/100)^2)*$A8 | E8: =(PI()/4)*((E$3/100)^2)*$A8 | F8: =(PI()/4)*((F$3/100)^2)*$A8 | G8: =(PI()/4)*((G$3/100)^2)*$A8 | H8: =(PI()/4)*((H$3/100)^2)*$A8 | I8: =(PI()/4)*((I$3/100)^2)*$A8 | ... U8: =(PI()/4)*((U$3/100)^2)*$A8
A9: 3.5 | B9: =(PI()/4)*((B$3/100)^2)*$A9 | C9: =(PI()/4)*((C$3/100)^2)*$A9 | D9: =(PI()/4)*((D$3/100)^2)*$A9 | E9: =(PI()/4)*((E$3/100)^2)*$A9 | F9: =(PI()/4)*((F$3/100)^2)*$A9 | G9: =(PI()/4)*((G$3/100)^2)*$A9 | H9: =(PI()/4)*((H$3/100)^2)*$A9 | I9: =(PI()/4)*((I$3/100)^2)*$A9 | ... U9: =(PI()/4)*((U$3/100)^2)*$A9
A10: 4 | B10: =(PI()/4)*((B$3/100)^2)*$A10 | C10: =(PI()/4)*((C$3/100)^2)*$A10 | D10: =(PI()/4)*((D$3/100)^2)*$A10 | E10: =(PI()/4)*((E$3/100)^2)*$A10 | F10: =(PI()/4)*((F$3/100)^2)*$A10 | G10: =(PI()/4)*((G$3/100)^2)*$A10 | H10: =(PI()/4)*((H$3/100)^2)*$A10 | I10: =(PI()/4)*((I$3/100)^2)*$A10 | ... U10: =(PI()/4)*((U$3/100)^2)*$A10
A11: 4.5 | B11: =(PI()/4)*((B$3/100)^2)*$A11 | C11: =(PI()/4)*((C$3/100)^2)*$A11 | D11: =(PI()/4)*((D$3/100)^2)*$A11 | E11: =(PI()/4)*((E$3/100)^2)*$A11 | F11: =(PI()/4)*((F$3/100)^2)*$A11 | G11: =(PI()/4)*((G$3/100)^2)*$A11 | H11: =(PI()/4)*((H$3/100)^2)*$A11 | I11: =(PI()/4)*((I$3/100)^2)*$A11 | ... U11: =(PI()/4)*((U$3/100)^2)*$A11
A12: 5 | B12: =(PI()/4)*((B$3/100)^2)*$A12 | C12: =(PI()/4)*((C$3/100)^2)*$A12 | D12: =(PI()/4)*((D$3/100)^2)*$A12 | E12: =(PI()/4)*((E$3/100)^2)*$A12 | F12: =(PI()/4)*((F$3/100)^2)*$A12 | G12: =(PI()/4)*((G$3/100)^2)*$A12 | H12: =(PI()/4)*((H$3/100)^2)*$A12 | I12: =(PI()/4)*((I$3/100)^2)*$A12 | ... U12: =(PI()/4)*((U$3/100)^2)*$A12
A13: 5.5 | B13: =(PI()/4)*((B$3/100)^2)*$A13 | C13: =(PI()/4)*((C$3/100)^2)*$A13 | D13: =(PI()/4)*((D$3/100)^2)*$A13 | E13: =(PI()/4)*((E$3/100)^2)*$A13 | F13: =(PI()/4)*((F$3/100)^2)*$A13 | G13: =(PI()/4)*((G$3/100)^2)*$A13 | H13: =(PI()/4)*((H$3/100)^2)*$A13 | I13: =(PI()/4)*((I$3/100)^2)*$A13 | ... U13: =(PI()/4)*((U$3/100)^2)*$A13
A14: 6 | B14: =(PI()/4)*((B$3/100)^2)*$A14 | C14: =(PI()/4)*((C$3/100)^2)*$A14 | D14: =(PI()/4)*((D$3/100)^2)*$A14 | E14: =(PI()/4)*((E$3/100)^2)*$A14 | F14: =(PI()/4)*((F$3/100)^2)*$A14 | G14: =(PI()/4)*((G$3/100)^2)*$A14 | H14: =(PI()/4)*((H$3/100)^2)*$A14 | I14: =(PI()/4)*((I$3/100)^2)*$A14 | ... U14: =(PI()/4)*((U$3/100)^2)*$A14
A15: 7 | B15: =(PI()/4)*((B$3/100)^2)*$A15 | C15: =(PI()/4)*((C$3/100)^2)*$A15 | D15: =(PI()/4)*((D$3/100)^2)*$A15 | E15: =(PI()/4)*((E$3/100)^2)*$A15 | F15: =(PI()/4)*((F$3/100)^2)*$A15 | G15: =(PI()/4)*((G$3/100)^2)*$A15 | H15: =(PI()/4)*((H$3/100)^2)*$A15 | I15: =(PI()/4)*((I$3/100)^2)*$A15 | ... U15: =(PI()/4)*((U$3/100)^2)*$A15
A16: 8 | B16: =(PI()/4)*((B$3/100)^2)*$A16 | C16: =(PI()/4)*((C$3/100)^2)*$A16 | D16: =(PI()/4)*((D$3/100)^2)*$A16 | E16: =(PI()/4)*((E$3/100)^2)*$A16 | F16: =(PI()/4)*((F$3/100)^2)*$A16 | G16: =(PI()/4)*((G$3/100)^2)*$A16 | H16: =(PI()/4)*((H$3/100)^2)*$A16 | I16: =(PI()/4)*((I$3/100)^2)*$A16 | ... U16: =(PI()/4)*((U$3/100)^2)*$A16
... A20: 12 | B20: =(PI()/4)*((B$3/100)^2)*$A20 | C20: =(PI()/4)*((C$3/100)^2)*$A20 | D20: =(PI()/4)*((D$3/100)^2)*$A20 | E20: =(PI()/4)*((E$3/100)^2)*$A20 | F20: =(PI()/4)*((F$3/100)^2)*$A20 | G20: =(PI()/4)*((G$3/100)^2)*$A20 | H20: =(PI()/4)*((H$3/100)^2)*$A20 | I20: =(PI()/4)*((I$3/100)^2)*$A20 | ... U20: =(PI()/4)*((U$3/100)^2)*$A20

Sheet Tabela de Peso
A1: TABELA DE PESO POR PEÇA (kg) — referência
A2: Peso de uma peça, em quilos, conforme a tabela da sua operação. Edite se mudar de espécie ou de umidade.
A3: Comprimento (m) | B3: 04 a 06 | C3: 06 a 08 | D3: 08 a 10 | E3: 10 a 12 | F3: 12 a 14 | G3: 14 a 16 | H3: 16 a 18 | I3: 18 a 20 | J3: 20 a 22 | K3: 22 a 24 | L3: 24 a 26 | M3: 26 a 28 | N3: 28 a 30 | O3: 30 a 32 | P3: 32 a 34 | Q3: 34 a 36 | R3: 36 a 38 | S3: 38 a 40 | T3: 40 a 42 | U3: 42 a 44
A4: 1.5 | B4: 4.28 | C4: 5.91 | D4: 9.77 | E4: 14.6 | F4: 20.59 | G4: 27.14 | H4: 34.86 | I4: 43.54 | J4: 53.19 | K4: 63.8 | L4: 75.42 | M4: 87.98 | N4: 101.44 | O4: 114.63 | P4: 128.39 | Q4: 142.51 | R4: 156.76 | S4: 170.87 | T4: 184.54 | U4: 197.46
A5: 2.2 | B5: 5.32 | C5: 8.13 | D5: 13.27 | E5: 20.07 | F5: 28.03 | G5: 38.38 | H5: 47.94 | I5: 59.88 | J5: 73.17 | K5: 87.72 | L5: 103.72 | M5: 120.97 | N5: 139.53 | O5: 157.67 | P5: 176.59 | Q5: 196.01 | R5: 215.61 | S5: 235.01 | T5: 253.81 | U5: 271.58
A6: 2.5 | B6: 5.87 | C6: 9.24 | D6: 13.44 | E6: 22.81 | F6: 31.56 | G6: 44.59 | H6: 54.47 | I6: 68.03 | J6: 83.1 | K6: 99.67 | L6: 117.88 | M6: 137.46 | N6: 158.52 | O6: 179.13 | P6: 200.63 | Q6: 222.7 | R6: 244.97 | S6: 267.02 | T6: 288.38 | U6: 308.57
A7: 3 | B7: 7.09 | C7: 11.08 | D7: 18.32 | E7: 27.37 | F7: 38.23 | G7: 50.89 | H7: 65.36 | I7: 81.63 | J7: 99.75 | K7: 119.64 | L7: 141.34 | M7: 164.84 | N7: 190.17 | O7: 214.89 | P7: 240.68 | Q7: 267.15 | R7: 293.87 | S7: 320.32 | T7: 345.95 | U7: 370.17
A8: 3.5 | B8: 8.28 | C8: 12.93 | D8: 21.38 | E8: 31.93 | F8: 44.59 | G8: 59.38 | H8: 76.29 | I8: 95.24 | J8: 116.39 | K8: 139.53 | L8: 165.08 | M8: 192.31 | N8: 221.81 | O8: 250.65 | P8: 280.73 | Q8: 311.61 | R8: 342.77 | S8: 373.62 | T8: 403.51 | U8: 431.76
A9: 4 | B9: 9.46 | C9: 14.78 | D9: 24.43 | E9: 36.5 | F9: 50.96 | G9: 67.83 | H9: 87.15 | I9: 108.89 | J9: 133.04 | K9: 159.57 | L9: 188.38 | M9: 219.78 | N9: 253.7 | O9: 286.68 | P9: 321.08 | Q9: 356.4 | R9: 392.04 | S9: 427.32 | T9: 461.51 | U9: 493.82
A10: 4.5 | B10: 11.82 | C10: 18.47 | D10: 28.09 | E10: 41.97 | F10: 58.82 | G10: 78.03 | H10: 100.22 | I10: 125.17 | J10: 152.94 | K10: 183.44 | L10: 216.76 | M10: 252.82 | N10: 291.61 | O10: 329.52 | P10: 369.07 | Q10: 409.66 | R10: 450.63 | S10: 491.19 | T10: 530.49 | U10: 567.63
A11: 5 | B11: 11.82 | C11: 18.47 | D11: 30.53 | E11: 45.61 | F11: 63.69 | G11: 84.81 | H11: 108.99 | I11: 136.05 | J11: 166.2 | K11: 199.34 | L11: 235.76 | M11: 274.6 | N11: 317.46 | O11: 358.73 | P11: 401.78 | Q11: 445.98 | R11: 490.58 | S11: 534.73 | T11: 577.51 | U11: 617.94
A12: 5.5 | B12: 14.18 | C12: 22.16 | D12: 31.76 | E12: 50.18 | F12: 69.79 | G12: 95.48 | H12: 119.83 | I12: 149.66 | J12: 182.85 | K12: 219.31 | L12: 259.22 | M12: 302.3 | N12: 348.69 | O12: 394.02 | P12: 441.31 | Q12: 489.85 | R12: 538.84 | S12: 587.34 | T12: 634.33 | U12: 678.74
A13: 6 | B13: 14.18 | C13: 22.16 | D13: 36.64 | E13: 54.74 | F13: 76.43 | G13: 101.78 | H13: 130.72 | I13: 163.27 | J13: 199.34 | K13: 239.04 | L13: 283.02 | M13: 329.67 | N13: 380.95 | O13: 430.47 | P13: 482.13 | Q13: 535.16 | R13: 588.68 | S13: 641.66 | T13: 692.99 | U13: 741.5
A14: 7 | B14: 16.55 | C14: 25.86 | D14: 42.75 | E14: 63.87 | F14: 89.19 | G14: 118.72 | H14: 152.51 | I14: 190.52 | J14: 232.79 | K14: 279.21 | L14: 329.72 | M14: 384.62 | N14: 443.87 | O14: 501.57 | P14: 561.76 | Q14: 623.55 | R14: 685.91 | S14: 747.64 | T14: 807.46 | U14: 863.99
A15: 8 | B15: 18.92 | C15: 29.56 | D15: 48.86 | E15: 73 | F15: 101.92 | G15: 135.66 | H15: 174.3 | I15: 217.78 | J15: 266.08 | K15: 319.14 | L15: 376.76 | M15: 439.56 | N15: 507.4 | O15: 573.36 | P15: 642.16 | Q15: 712.8 | R15: 784.08 | S15: 854.64 | T15: 923.02 | U15: 987.64
... A19: 12 | B19: 28.36 | C19: 44.32 | D19: 73.28 | E19: 109.48 | F19: 152.86 | G19: 203.56 | H19: 261.44 | I19: 326.54 | J19: 398.68 | K19: 478.08 | L19: 566.04 | M19: 659.34 | N19: 761.9 | O19: 860.94 | P19: 964.26 | Q19: 1070.32 | R19: 1177.36 | S19: 1283.32 | T19: 1385.98 | U19: 1483
